BEGIN:VCALENDAR
VERSION:2.0
PRODID:-//eventon.com NONSGML v1.0//EN
CALSCALE:GREGORIAN
METHOD:PUBLISH
BEGIN:VEVENT
UID:69e7531abde2e
DTSTAMP:20260421T103610Z
DTSTART:20180106T010000Z
DTEND:20180120T020000Z
LOCATION:
SUMMARY:Pre-Teen Halaqa
DESCRIPTION:Pre-Teen Halaqa\nhttps://planomasjid.org/events/pre-teen-halaqa
 -2/
URL:https://planomasjid.org/events/pre-teen-halaqa-2/
END:VEVENT
END:VCALENDAR