BEGIN:VCALENDAR
VERSION:2.0
PRODID:-//eventon.com NONSGML v1.0//EN
CALSCALE:GREGORIAN
METHOD:PUBLISH
BEGIN:VEVENT
UID:69e7550e6d496
DTSTAMP:20260421T104430Z
DTSTART:20171202T010000Z
DTEND:20171202T040000Z
LOCATION:
SUMMARY:Preteen Halqa w/Shaykh Umair
DESCRIPTION:Preteen Halqa w/Shaykh Umair\nhttps://planomasjid.org/events/pr
 eteen-halqa-wshaykh-umair-3/
URL:https://planomasjid.org/events/preteen-halqa-wshaykh-umair-3/
END:VEVENT
END:VCALENDAR