BEGIN:VCALENDAR
VERSION:2.0
PRODID:-//eventon.com NONSGML v1.0//EN
CALSCALE:GREGORIAN
METHOD:PUBLISH
BEGIN:VEVENT
UID:69e7550e20bcb
DTSTAMP:20260421T104430Z
DTSTART:20171211T160000Z
DTEND:20171211T173000Z
LOCATION:
SUMMARY:The Golden Cain
DESCRIPTION:The Golden Cain\nhttps://planomasjid.org/events/iacc-sisters-co
 mmittee-presents/
URL:https://planomasjid.org/events/iacc-sisters-committee-presents/
END:VEVENT
END:VCALENDAR