BEGIN:VCALENDAR
VERSION:2.0
PRODID:-//eventon.com NONSGML v1.0//EN
CALSCALE:GREGORIAN
METHOD:PUBLISH
BEGIN:VEVENT
UID:69e7510ba2e88
DTSTAMP:20260421T102723Z
DTSTART:20171209T180100Z
DTEND:20171209T200000Z
LOCATION:
SUMMARY:Self Defense Workshop
DESCRIPTION:Self Defense Workshop\nhttps://planomasjid.org/events/self-defe
 nse-workshop/
URL:https://planomasjid.org/events/self-defense-workshop/
END:VEVENT
END:VCALENDAR