BEGIN:VCALENDAR
VERSION:2.0
PRODID:-//eventon.com NONSGML v1.0//EN
CALSCALE:GREGORIAN
METHOD:PUBLISH
BEGIN:VEVENT
UID:69e5f1d9e642c
DTSTAMP:20260420T092857Z
DTSTART:20180113T163000Z
DTEND:20180114T055000Z
LOCATION:
SUMMARY:Developing Cloud/SAAS Applications Using Microservice Architecture
DESCRIPTION:Developing Cloud/SAAS Applications Using Microservice Architect
 ure\nhttps://planomasjid.org/events/developing-cloudsaas-applications-using
 -microservice-architecture/
URL:https://planomasjid.org/events/developing-cloudsaas-applications-using-microservice-architecture/
END:VEVENT
END:VCALENDAR