BEGIN:VCALENDAR
VERSION:2.0
PRODID:-//eventon.com NONSGML v1.0//EN
CALSCALE:GREGORIAN
METHOD:PUBLISH
BEGIN:VEVENT
UID:69e73cdb8a379
DTSTAMP:20260421T090115Z
DTSTART:20171111T190000Z
DTEND:20171112T040000Z
LOCATION:
SUMMARY:Muslim Family Day
DESCRIPTION:Muslim Family Day\nhttps://planomasjid.org/events/muslim-family
 -day-2/
URL:https://planomasjid.org/events/muslim-family-day-2/
END:VEVENT
END:VCALENDAR