BEGIN:VCALENDAR
VERSION:2.0
PRODID:-//eventon.com NONSGML v1.0//EN
CALSCALE:GREGORIAN
METHOD:PUBLISH
BEGIN:VEVENT
UID:69e50b1fbbb04
DTSTAMP:20260419T170431Z
DTSTART:20170928T160000Z
DTEND:20170928T170100Z
LOCATION:
SUMMARY:Story Time
DESCRIPTION:Story Time\nhttps://planomasjid.org/events/story-time/
URL:https://planomasjid.org/events/story-time/
END:VEVENT
END:VCALENDAR