BEGIN:VCALENDAR
VERSION:2.0
PRODID:-//eventon.com NONSGML v1.0//EN
CALSCALE:GREGORIAN
METHOD:PUBLISH
BEGIN:VEVENT
UID:69e60cc62ddb2
DTSTAMP:20260420T112350Z
DTSTART:20170820T153000Z
DTEND:20170827T183000Z
LOCATION:
SUMMARY:IACC Sunday School Registration Announcement for Registration
DESCRIPTION:IACC Sunday School Registration Announcement for Registration\n
 https://planomasjid.org/events/iacc-sunday-school-registration-announcement
 -for-registration/
URL:https://planomasjid.org/events/iacc-sunday-school-registration-announcement-for-registration/
END:VEVENT
END:VCALENDAR