BEGIN:VCALENDAR
VERSION:2.0
PRODID:-//eventon.com NONSGML v1.0//EN
CALSCALE:GREGORIAN
METHOD:PUBLISH
BEGIN:VEVENT
UID:69e79b510ff99
DTSTAMP:20260421T154417Z
DTSTART:20250208T160000Z
DTEND:20250209T000000Z
LOCATION:
SUMMARY:Contemporary Legal Issues & Fiqh of Minorities
DESCRIPTION:\nhttps://planomasjid.org/events/welcome-ramadan-marhaban-ya-ra
 madan/
URL:https://planomasjid.org/events/welcome-ramadan-marhaban-ya-ramadan/
END:VEVENT
END:VCALENDAR