BEGIN:VCALENDAR
VERSION:2.0
PRODID:-//eventon.com NONSGML v1.0//EN
CALSCALE:GREGORIAN
METHOD:PUBLISH
BEGIN:VEVENT
UID:69e609c7c6445
DTSTAMP:20260420T111103Z
DTSTART:20250212T020000Z
DTEND:20250212T055900Z
LOCATION:
SUMMARY:Quarterly Town Hall Meeting
DESCRIPTION:\nhttps://planomasjid.org/events/quarterly-town-hall-meeting/
URL:https://planomasjid.org/events/quarterly-town-hall-meeting/
END:VEVENT
END:VCALENDAR