BEGIN:VCALENDAR
VERSION:2.0
PRODID:-//eventon.com NONSGML v1.0//EN
CALSCALE:GREGORIAN
METHOD:PUBLISH
BEGIN:VEVENT
UID:69e7535370aa7
DTSTAMP:20260421T103707Z
DTSTART:20250201T020000Z
DTEND:20250201T055900Z
LOCATION:
SUMMARY:Family Night
DESCRIPTION:\nhttps://planomasjid.org/events/family-night-4/
URL:https://planomasjid.org/events/family-night-4/
END:VEVENT
END:VCALENDAR