BEGIN:VCALENDAR
VERSION:2.0
PRODID:-//eventon.com NONSGML v1.0//EN
CALSCALE:GREGORIAN
METHOD:PUBLISH
BEGIN:VEVENT
UID:69e60f95a4927
DTSTAMP:20260420T113549Z
DTSTART:20250201T210000Z
DTEND:20250201T220000Z
LOCATION:
SUMMARY:The ABC's Of IEP's And 504's
DESCRIPTION:\nhttps://planomasjid.org/events/iacc-special-needs-support-gro
 up/
URL:https://planomasjid.org/events/iacc-special-needs-support-group/
END:VEVENT
END:VCALENDAR