BEGIN:VCALENDAR
VERSION:2.0
PRODID:-//eventon.com NONSGML v1.0//EN
CALSCALE:GREGORIAN
METHOD:PUBLISH
BEGIN:VEVENT
UID:69e54d77859f3
DTSTAMP:20260419T214735Z
DTSTART:20250119T210000Z
DTEND:20250120T055900Z
LOCATION:
SUMMARY:The Spring of Our Hearts
DESCRIPTION:\nhttps://planomasjid.org/events/the-spring-of-our-hearts/
URL:https://planomasjid.org/events/the-spring-of-our-hearts/
END:VEVENT
END:VCALENDAR