BEGIN:VCALENDAR
VERSION:2.0
PRODID:-//eventon.com NONSGML v1.0//EN
CALSCALE:GREGORIAN
METHOD:PUBLISH
BEGIN:VEVENT
UID:69e4f3c3ee590
DTSTAMP:20260419T152451Z
DTSTART:20250125T003000Z
DTEND:20250125T055900Z
LOCATION:
SUMMARY:Story Time With Sr. Misba
DESCRIPTION:\nhttps://planomasjid.org/events/story-time-with-sr-misba-2/
URL:https://planomasjid.org/events/story-time-with-sr-misba-2/
END:VEVENT
END:VCALENDAR