BEGIN:VCALENDAR
VERSION:2.0
PRODID:-//eventon.com NONSGML v1.0//EN
CALSCALE:GREGORIAN
METHOD:PUBLISH
BEGIN:VEVENT
UID:69e5f13856a99
DTSTAMP:20260420T092616Z
DTSTART:20241201
DTEND:20241202
LOCATION:
SUMMARY:Toastmasters at IACC Masjid
DESCRIPTION:\nhttps://planomasjid.org/events/toastmasters-at-iacc-masjid/
URL:https://planomasjid.org/events/toastmasters-at-iacc-masjid/
END:VEVENT
END:VCALENDAR