BEGIN:VCALENDAR
VERSION:2.0
PRODID:-//eventon.com NONSGML v1.0//EN
CALSCALE:GREGORIAN
METHOD:PUBLISH
BEGIN:VEVENT
UID:69e607f3f1153
DTSTAMP:20260420T110315Z
DTSTART:20241011T003000Z
DTEND:20241013T163000Z
LOCATION:
SUMMARY:PROGRAMS WITH SHAYKH MOKHTAR MAGHRAOUI
DESCRIPTION:\nhttps://planomasjid.org/events/programs-with-shaykh-mokhtar-m
 aghraoui/
URL:https://planomasjid.org/events/programs-with-shaykh-mokhtar-maghraoui/
END:VEVENT
END:VCALENDAR