BEGIN:VCALENDAR
VERSION:2.0
PRODID:-//eventon.com NONSGML v1.0//EN
CALSCALE:GREGORIAN
METHOD:PUBLISH
BEGIN:VEVENT
UID:69e7531a228a7
DTSTAMP:20260421T103610Z
DTSTART:20231015T203000Z
DTEND:20231016T045000Z
LOCATION:
SUMMARY:The Power of Kindness
DESCRIPTION:The Power of Kindness\nhttps://planomasjid.org/events/the-power
 -of-kindness/
URL:https://planomasjid.org/events/the-power-of-kindness/
END:VEVENT
END:VCALENDAR