BEGIN:VCALENDAR
VERSION:2.0
PRODID:-//eventon.com NONSGML v1.0//EN
CALSCALE:GREGORIAN
METHOD:PUBLISH
BEGIN:VEVENT
UID:69e5f1da8a9e8
DTSTAMP:20260420T092858Z
DTSTART:20230217
DTEND:20230218
LOCATION:
SUMMARY:5th Annual Youth Conference
DESCRIPTION:5th Annual Youth Conference\nhttps://planomasjid.org/events/5th
 -annual-youth-conference/
URL:https://planomasjid.org/events/5th-annual-youth-conference/
END:VEVENT
END:VCALENDAR