BEGIN:VCALENDAR
VERSION:2.0
PRODID:-//eventon.com NONSGML v1.0//EN
CALSCALE:GREGORIAN
METHOD:PUBLISH
BEGIN:VEVENT
UID:69e9d7c676b20
DTSTAMP:20260423T082646Z
DTSTART:20220709T150000Z
DTEND:20220709T170000Z
LOCATION:
SUMMARY:2022 Summer Soccer Camp
DESCRIPTION:2022 Summer Soccer Camp\nhttps://planomasjid.org/events/2022-su
 mmer-soccer-camp/
URL:https://planomasjid.org/events/2022-summer-soccer-camp/
END:VEVENT
END:VCALENDAR