BEGIN:VCALENDAR
VERSION:2.0
PRODID:-//eventon.com NONSGML v1.0//EN
CALSCALE:GREGORIAN
METHOD:PUBLISH
BEGIN:VEVENT
UID:69e7a344b3ea7
DTSTAMP:20260421T161812Z
DTSTART:20220331T130800Z
DTEND:20220401T045000Z
LOCATION:
SUMMARY:Spiritual Self-Care Workshop
DESCRIPTION:Spiritual Self-Care Workshop\nhttps://planomasjid.org/events/sp
 iritual-self-care-workshop/var/ri-7.l-L1
URL:https://planomasjid.org/events/spiritual-self-care-workshop/var/ri-7.l-L1
END:VEVENT
END:VCALENDAR