BEGIN:VCALENDAR
VERSION:2.0
PRODID:-//eventon.com NONSGML v1.0//EN
CALSCALE:GREGORIAN
METHOD:PUBLISH
BEGIN:VEVENT
UID:69e78b37f0e8c
DTSTAMP:20260421T143535Z
DTSTART:20220324T130800Z
DTEND:20220325T045000Z
LOCATION:
SUMMARY:Spiritual Self-Care Workshop
DESCRIPTION:Spiritual Self-Care Workshop\nhttps://planomasjid.org/events/sp
 iritual-self-care-workshop/var/ri-6.l-L1
URL:https://planomasjid.org/events/spiritual-self-care-workshop/var/ri-6.l-L1
END:VEVENT
END:VCALENDAR