BEGIN:VCALENDAR
VERSION:2.0
PRODID:-//eventon.com NONSGML v1.0//EN
CALSCALE:GREGORIAN
METHOD:PUBLISH
BEGIN:VEVENT
UID:69e7551322c8d
DTSTAMP:20260421T104435Z
DTSTART:20220310T140800Z
DTEND:20220311T055000Z
LOCATION:
SUMMARY:Spiritual Self-Care Workshop
DESCRIPTION:Spiritual Self-Care Workshop\nhttps://planomasjid.org/events/sp
 iritual-self-care-workshop/var/ri-4.l-L1
URL:https://planomasjid.org/events/spiritual-self-care-workshop/var/ri-4.l-L1
END:VEVENT
END:VCALENDAR