BEGIN:VCALENDAR
VERSION:2.0
PRODID:-//eventon.com NONSGML v1.0//EN
CALSCALE:GREGORIAN
METHOD:PUBLISH
BEGIN:VEVENT
UID:69e8057260076
DTSTAMP:20260421T231706Z
DTSTART:20220428T130800Z
DTEND:20220429T045000Z
LOCATION:
SUMMARY:Spiritual Self-Care Workshop
DESCRIPTION:Spiritual Self-Care Workshop\nhttps://planomasjid.org/events/sp
 iritual-self-care-workshop/var/ri-11.l-L1
URL:https://planomasjid.org/events/spiritual-self-care-workshop/var/ri-11.l-L1
END:VEVENT
END:VCALENDAR