BEGIN:VCALENDAR
VERSION:2.0
PRODID:-//eventon.com NONSGML v1.0//EN
CALSCALE:GREGORIAN
METHOD:PUBLISH
BEGIN:VEVENT
UID:69e7530107067
DTSTAMP:20260421T103545Z
DTSTART:20210807T230000Z
DTEND:20210808T030000Z
LOCATION:
SUMMARY:IACC Eid Carnival
DESCRIPTION:IACC Eid Carnival\nhttps://planomasjid.org/events/iacc-eid-carn
 ival/
URL:https://planomasjid.org/events/iacc-eid-carnival/
END:VEVENT
END:VCALENDAR