BEGIN:VCALENDAR
VERSION:2.0
PRODID:-//eventon.com NONSGML v1.0//EN
CALSCALE:GREGORIAN
METHOD:PUBLISH
BEGIN:VEVENT
UID:69e5f1eecba2c
DTSTAMP:20260420T092918Z
DTSTART:20210730T000000Z
DTEND:20210730T045000Z
LOCATION:
SUMMARY:Suhba Registration 2021-2022
DESCRIPTION:Suhba Registration 2021-2022\nhttps://planomasjid.org/events/su
 hba-registration-2021-2022/
URL:https://planomasjid.org/events/suhba-registration-2021-2022/
END:VEVENT
END:VCALENDAR