BEGIN:VCALENDAR
VERSION:2.0
PRODID:-//eventon.com NONSGML v1.0//EN
CALSCALE:GREGORIAN
METHOD:PUBLISH
BEGIN:VEVENT
UID:69e4da3648910
DTSTAMP:20260419T133550Z
DTSTART:20210722T014500Z
DTEND:20210722T045000Z
LOCATION:
SUMMARY:High School Youth Halaqa
DESCRIPTION:High School Youth Halaqa\nhttps://planomasjid.org/events/highsc
 hool-youth-halaqa/
URL:https://planomasjid.org/events/highschool-youth-halaqa/
END:VEVENT
END:VCALENDAR