BEGIN:VCALENDAR
VERSION:2.0
PRODID:-//eventon.com NONSGML v1.0//EN
CALSCALE:GREGORIAN
METHOD:PUBLISH
BEGIN:VEVENT
UID:69e840c25e8e0
DTSTAMP:20260422T033010Z
DTSTART:20210607T180000Z
DTEND:20210608T020000Z
LOCATION:
SUMMARY:2021 Summer Programs
DESCRIPTION:2021 Summer Programs\nhttps://planomasjid.org/events/summer-pro
 grams/
URL:https://planomasjid.org/events/summer-programs/
END:VEVENT
END:VCALENDAR