BEGIN:VCALENDAR
VERSION:2.0
PRODID:-//eventon.com NONSGML v1.0//EN
CALSCALE:GREGORIAN
METHOD:PUBLISH
BEGIN:VEVENT
UID:69e4f68066221
DTSTAMP:20260419T153632Z
DTSTART:20210417T020000Z
DTEND:20210417T030000Z
LOCATION:
SUMMARY:Drive Thru Iftar!!!
DESCRIPTION:Drive Thru Iftar!!!\nhttps://planomasjid.org/events/drive-thru-
 iftar/
URL:https://planomasjid.org/events/drive-thru-iftar/
END:VEVENT
END:VCALENDAR