BEGIN:VCALENDAR
VERSION:2.0
PRODID:-//eventon.com NONSGML v1.0//EN
CALSCALE:GREGORIAN
METHOD:PUBLISH
BEGIN:VEVENT
UID:69e9e0f49e5af
DTSTAMP:20260423T090556Z
DTSTART:20210403T044500Z
DTEND:20210403T002500Z
LOCATION:
SUMMARY:IACC Youth Qiyam
DESCRIPTION:IACC Youth Qiyam\nhttps://planomasjid.org/events/iacc-youth-qiy
 am/
URL:https://planomasjid.org/events/iacc-youth-qiyam/
END:VEVENT
END:VCALENDAR