BEGIN:VCALENDAR
VERSION:2.0
PRODID:-//eventon.com NONSGML v1.0//EN
CALSCALE:GREGORIAN
METHOD:PUBLISH
BEGIN:VEVENT
UID:69e6059c1d180
DTSTAMP:20260420T105316Z
DTSTART:20201017T000000Z
DTEND:20201101T021500Z
LOCATION:
SUMMARY:Oct 2020 – Weekly Program Schedule
DESCRIPTION:Oct 2020 – Weekly Program Schedule\nhttps://planomasjid.org/e
 vents/oct-2020-weekly-program-schedule/
URL:https://planomasjid.org/events/oct-2020-weekly-program-schedule/
END:VEVENT
END:VCALENDAR