BEGIN:VCALENDAR
VERSION:2.0
PRODID:-//eventon.com NONSGML v1.0//EN
CALSCALE:GREGORIAN
METHOD:PUBLISH
BEGIN:VEVENT
UID:69e73c7cefba3
DTSTAMP:20260421T085940Z
DTSTART:20200907T113000Z
DTEND:20200907T123000Z
LOCATION:
SUMMARY:Conversations with Imam Azhar
DESCRIPTION:Conversations with Imam Azhar\nhttps://planomasjid.org/events/c
 onversations-with-imam-azhar-2/
URL:https://planomasjid.org/events/conversations-with-imam-azhar-2/
END:VEVENT
END:VCALENDAR