BEGIN:VCALENDAR
VERSION:2.0
PRODID:-//eventon.com NONSGML v1.0//EN
CALSCALE:GREGORIAN
METHOD:PUBLISH
BEGIN:VEVENT
UID:69e73ccc2d269
DTSTAMP:20260421T090100Z
DTSTART:20200805T020000Z
DTEND:20200805T030000Z
LOCATION:
SUMMARY:Back To School @ Home Edition
DESCRIPTION:Back To School @ Home Edition\nhttps://planomasjid.org/events/b
 ack-to-school-home-edition-2/
URL:https://planomasjid.org/events/back-to-school-home-edition-2/
END:VEVENT
END:VCALENDAR