BEGIN:VCALENDAR
VERSION:2.0
PRODID:-//eventon.com NONSGML v1.0//EN
CALSCALE:GREGORIAN
METHOD:PUBLISH
BEGIN:VEVENT
UID:69e751a858107
DTSTAMP:20260421T103000Z
DTSTART:20200731T100000Z
DTEND:20200809T030000Z
LOCATION:
SUMMARY:Please Practice - Social Distancing
DESCRIPTION:Please Practice - Social Distancing\nhttps://planomasjid.org/ev
 ents/please-practice-social-distancing-3/
URL:https://planomasjid.org/events/please-practice-social-distancing-3/
END:VEVENT
END:VCALENDAR