BEGIN:VCALENDAR
VERSION:2.0
PRODID:-//eventon.com NONSGML v1.0//EN
CALSCALE:GREGORIAN
METHOD:PUBLISH
BEGIN:VEVENT
UID:69e73cd8d38e5
DTSTAMP:20260421T090112Z
DTSTART:20200729T020000Z
DTEND:20200729T045000Z
LOCATION:
SUMMARY:Back To School - Home Edition
DESCRIPTION:http://tinyurl.com/back2school12-14 http://tinyurl.com/back2sch
 ool15-17\nhttps://planomasjid.org/events/back-to-school-home-edition/
URL:https://planomasjid.org/events/back-to-school-home-edition/
END:VEVENT
END:VCALENDAR