BEGIN:VCALENDAR
VERSION:2.0
PRODID:-//eventon.com NONSGML v1.0//EN
CALSCALE:GREGORIAN
METHOD:PUBLISH
BEGIN:VEVENT
UID:69e73c481a828
DTSTAMP:20260421T085848Z
DTSTART:20200724
DTEND:20200725
LOCATION:
SUMMARY:Read the June 2020 Issue of IACC Magazine
DESCRIPTION:Read the June 2020 Issue of IACC Magazine\nhttps://planomasjid.
 org/events/read-the-june-2020-issue-of-iacc-magazine/
URL:https://planomasjid.org/events/read-the-june-2020-issue-of-iacc-magazine/
END:VEVENT
END:VCALENDAR