BEGIN:VCALENDAR
VERSION:2.0
PRODID:-//eventon.com NONSGML v1.0//EN
CALSCALE:GREGORIAN
METHOD:PUBLISH
BEGIN:VEVENT
UID:69e5f1a92fc35
DTSTAMP:20260420T092809Z
DTSTART:20200726T170000Z
DTEND:20200727T045000Z
LOCATION:
SUMMARY:Stress & Covid-19 Virus
DESCRIPTION:Stress & Covid-19 Virus\nhttps://planomasjid.org/events/stress-
 covid-19-virus/
URL:https://planomasjid.org/events/stress-covid-19-virus/
END:VEVENT
END:VCALENDAR