BEGIN:VCALENDAR
VERSION:2.0
PRODID:-//eventon.com NONSGML v1.0//EN
CALSCALE:GREGORIAN
METHOD:PUBLISH
BEGIN:VEVENT
UID:69e7531a71a56
DTSTAMP:20260421T103610Z
DTSTART:20200807T000000Z
DTEND:20200807T045000Z
LOCATION:
SUMMARY:Reviving Our Faith
DESCRIPTION:Reviving Our Faith\nhttps://planomasjid.org/events/reviving-our
 -faith/
URL:https://planomasjid.org/events/reviving-our-faith/
END:VEVENT
END:VCALENDAR