BEGIN:VCALENDAR
VERSION:2.0
PRODID:-//eventon.com NONSGML v1.0//EN
CALSCALE:GREGORIAN
METHOD:PUBLISH
BEGIN:VEVENT
UID:69e63b2025d5e
DTSTAMP:20260420T144136Z
DTSTART:20200722T223000Z
DTEND:20200731T000000Z
LOCATION:
SUMMARY:10 Days of Dhul Hijjah Trivia
DESCRIPTION:10 Days of Dhul Hijjah Trivia\nhttps://planomasjid.org/events/1
 0-days-of-dhul-hijjah-trivia/
URL:https://planomasjid.org/events/10-days-of-dhul-hijjah-trivia/
END:VEVENT
END:VCALENDAR