BEGIN:VCALENDAR
VERSION:2.0
PRODID:-//eventon.com NONSGML v1.0//EN
CALSCALE:GREGORIAN
METHOD:PUBLISH
BEGIN:VEVENT
UID:69e73c9361eb5
DTSTAMP:20260421T090003Z
DTSTART:20200718T000000Z
DTEND:20200718T010000Z
LOCATION:
SUMMARY:Calling All Homschoolers - IACC Co-op
DESCRIPTION:Calling All Homschoolers - IACC Co-op\nhttps://planomasjid.org/
 events/calling-all-homschoolers-iacc-co-op/
URL:https://planomasjid.org/events/calling-all-homschoolers-iacc-co-op/
END:VEVENT
END:VCALENDAR