BEGIN:VCALENDAR
VERSION:2.0
PRODID:-//eventon.com NONSGML v1.0//EN
CALSCALE:GREGORIAN
METHOD:PUBLISH
BEGIN:VEVENT
UID:69e60db73304a
DTSTAMP:20260420T112751Z
DTSTART:20200612T180000Z
DTEND:20200612T200000Z
LOCATION:
SUMMARY:IACC Phase 2 Reopening Plan - Jummah Prayer
DESCRIPTION:IACC Phase 2 Reopening Plan - Jummah Prayer\nhttps://planomasji
 d.org/events/iacc-phase-2-reopening-plan-jummah-prayer/
URL:https://planomasjid.org/events/iacc-phase-2-reopening-plan-jummah-prayer/
END:VEVENT
END:VCALENDAR