BEGIN:VCALENDAR
VERSION:2.0
PRODID:-//eventon.com NONSGML v1.0//EN
CALSCALE:GREGORIAN
METHOD:PUBLISH
BEGIN:VEVENT
UID:69e5f176ce20e
DTSTAMP:20260420T092718Z
DTSTART:20200601
DTEND:20200701
LOCATION:
SUMMARY:Youth Magazine
DESCRIPTION:Youth Magazine\nhttps://planomasjid.org/events/youth-magazine-2
 /
URL:https://planomasjid.org/events/youth-magazine-2/
END:VEVENT
END:VCALENDAR