BEGIN:VCALENDAR
VERSION:2.0
PRODID:-//eventon.com NONSGML v1.0//EN
CALSCALE:GREGORIAN
METHOD:PUBLISH
BEGIN:VEVENT
UID:69e8e407e6265
DTSTAMP:20260422T150647Z
DTSTART:20200602T000000Z
DTEND:20200701T020000Z
LOCATION:
SUMMARY:Arabic Comprehensive
DESCRIPTION:Arabic Writing Monday Arabic Writing Wednesday Arabic Writing T
 uesday\nhttps://planomasjid.org/events/arabic-comprehensive/
URL:https://planomasjid.org/events/arabic-comprehensive/
END:VEVENT
END:VCALENDAR