BEGIN:VCALENDAR
VERSION:2.0
PRODID:-//eventon.com NONSGML v1.0//EN
CALSCALE:GREGORIAN
METHOD:PUBLISH
BEGIN:VEVENT
UID:69e73cf41375b
DTSTAMP:20260421T090140Z
DTSTART:20200601
DTEND:20200602
LOCATION:
SUMMARY:Please Practice Social Distancing
DESCRIPTION:Please Practice Social Distancing\nhttps://planomasjid.org/even
 ts/please-practice-social-distancing/
URL:https://planomasjid.org/events/please-practice-social-distancing/
END:VEVENT
END:VCALENDAR