BEGIN:VCALENDAR
VERSION:2.0
PRODID:-//eventon.com NONSGML v1.0//EN
CALSCALE:GREGORIAN
METHOD:PUBLISH
BEGIN:VEVENT
UID:69e7530066460
DTSTAMP:20260421T103544Z
DTSTART:20200518T220000Z
DTEND:20200524T000000Z
LOCATION:
SUMMARY:Drive-Thru & Donate Everyday
DESCRIPTION:Drive-Thru & Donate Everyday\nhttps://planomasjid.org/events/dr
 ive-thru-donate-everyday/
URL:https://planomasjid.org/events/drive-thru-donate-everyday/
END:VEVENT
END:VCALENDAR