BEGIN:VCALENDAR
VERSION:2.0
PRODID:-//eventon.com NONSGML v1.0//EN
CALSCALE:GREGORIAN
METHOD:PUBLISH
BEGIN:VEVENT
UID:69e5f1cfb1c1a
DTSTAMP:20260420T092847Z
DTSTART:20200508
DTEND:20200509
LOCATION:
SUMMARY:Farmersville Muslim Cemetery Fundraiser
DESCRIPTION:Farmersville Muslim Cemetery Fundraiser\nhttps://planomasjid.or
 g/events/farmersville-muslim-cemetery-fundraiser/
URL:https://planomasjid.org/events/farmersville-muslim-cemetery-fundraiser/
END:VEVENT
END:VCALENDAR