BEGIN:VCALENDAR
VERSION:2.0
PRODID:-//eventon.com NONSGML v1.0//EN
CALSCALE:GREGORIAN
METHOD:PUBLISH
BEGIN:VEVENT
UID:69e73cd65e894
DTSTAMP:20260421T090110Z
DTSTART:20200502T133000Z
DTEND:20200517T190000Z
LOCATION:
SUMMARY:Food Giveaway
DESCRIPTION:Food Giveaway\nhttps://planomasjid.org/events/food-giveaway/
URL:https://planomasjid.org/events/food-giveaway/
END:VEVENT
END:VCALENDAR