BEGIN:VCALENDAR
VERSION:2.0
PRODID:-//eventon.com NONSGML v1.0//EN
CALSCALE:GREGORIAN
METHOD:PUBLISH
BEGIN:VEVENT
UID:69e73c9d8ea5d
DTSTAMP:20260421T090013Z
DTSTART:20200424
DTEND:20200425
LOCATION:
SUMMARY:A Meaningful Ramadan
DESCRIPTION:A Meaningful Ramadan\nhttps://planomasjid.org/events/a-meaningf
 ul-ramadan/
URL:https://planomasjid.org/events/a-meaningful-ramadan/
END:VEVENT
END:VCALENDAR