BEGIN:VCALENDAR
VERSION:2.0
PRODID:-//eventon.com NONSGML v1.0//EN
CALSCALE:GREGORIAN
METHOD:PUBLISH
BEGIN:VEVENT
UID:69e73c8f93984
DTSTAMP:20260421T085959Z
DTSTART:20200229T020000Z
DTEND:20200229T040000Z
LOCATION:
SUMMARY:Quran Recitation By Qari Moaz
DESCRIPTION:Quran Recitation By Qari Moaz\nhttps://planomasjid.org/events/q
 uran-recitation-by-qari-moaz/
URL:https://planomasjid.org/events/quran-recitation-by-qari-moaz/
END:VEVENT
END:VCALENDAR