BEGIN:VCALENDAR
VERSION:2.0
PRODID:-//eventon.com NONSGML v1.0//EN
CALSCALE:GREGORIAN
METHOD:PUBLISH
BEGIN:VEVENT
UID:69e5f217d2a7b
DTSTAMP:20260420T092959Z
DTSTART:20200229T020000Z
DTEND:20200229T040000Z
LOCATION:
SUMMARY:The Roots Of Black Muslims In America
DESCRIPTION:The Roots Of Black Muslims In America\nhttps://planomasjid.org/
 events/the-roots-of-black-muslims-in-america/
URL:https://planomasjid.org/events/the-roots-of-black-muslims-in-america/
END:VEVENT
END:VCALENDAR