BEGIN:VCALENDAR
VERSION:2.0
PRODID:-//eventon.com NONSGML v1.0//EN
CALSCALE:GREGORIAN
METHOD:PUBLISH
BEGIN:VEVENT
UID:69e4f47a67021
DTSTAMP:20260419T152754Z
DTSTART:20200229T160000Z
DTEND:20200229T190000Z
LOCATION:
SUMMARY:Political Alignment Presents: USTADH UBAYDULLAH EVANS
DESCRIPTION:Political Alignment Presents: USTADH UBAYDULLAH EVANS\nhttps://
 planomasjid.org/events/political-alignment-presents-ustadh-ubaydullah-evans
 /
URL:https://planomasjid.org/events/political-alignment-presents-ustadh-ubaydullah-evans/
END:VEVENT
END:VCALENDAR